BEGIN:VCALENDAR
VERSION:2.0
PRODID:-//Tampere Saints - ECPv6.15.20//NONSGML v1.0//EN
CALSCALE:GREGORIAN
METHOD:PUBLISH
X-WR-CALNAME:Tampere Saints
X-ORIGINAL-URL:https://tamperesaints.fi
X-WR-CALDESC:Tapahtumat Tampere Saints
REFRESH-INTERVAL;VALUE=DURATION:PT1H
X-Robots-Tag:noindex
X-PUBLISHED-TTL:PT1H
BEGIN:VTIMEZONE
TZID:Europe/Helsinki
BEGIN:DAYLIGHT
TZOFFSETFROM:+0200
TZOFFSETTO:+0300
TZNAME:EEST
DTSTART:20240331T010000
END:DAYLIGHT
BEGIN:STANDARD
TZOFFSETFROM:+0300
TZOFFSETTO:+0200
TZNAME:EET
DTSTART:20241027T010000
END:STANDARD
BEGIN:DAYLIGHT
TZOFFSETFROM:+0200
TZOFFSETTO:+0300
TZNAME:EEST
DTSTART:20250330T010000
END:DAYLIGHT
BEGIN:STANDARD
TZOFFSETFROM:+0300
TZOFFSETTO:+0200
TZNAME:EET
DTSTART:20251026T010000
END:STANDARD
BEGIN:DAYLIGHT
TZOFFSETFROM:+0200
TZOFFSETTO:+0300
TZNAME:EEST
DTSTART:20260329T010000
END:DAYLIGHT
BEGIN:STANDARD
TZOFFSETFROM:+0300
TZOFFSETTO:+0200
TZNAME:EET
DTSTART:20261025T010000
END:STANDARD
END:VTIMEZONE
BEGIN:VEVENT
DTSTART;TZID=Europe/Helsinki:20250724T170000
DTEND;TZID=Europe/Helsinki:20250724T180000
DTSTAMP:20260419T232436
CREATED:20250326T195718Z
LAST-MODIFIED:20250327T154628Z
UID:20880-1753376400-1753380000@tamperesaints.fi
SUMMARY:Jefukoulu 2025
DESCRIPTION:MUKAAN PELAAMAAN?\n– Opi amerikkalaisen jalkapallon alkeita super hauskan kesäkurssin parissa- \n  \nKEILLE? \nKesäkauden kestävä jefukoulu on tarkoitettu  6 – 11 v lapsille sukupuolesta\, koosta tai urheilutasta riippumatta. \n\nMISSÄ?\n\nKoivistonkylän kentällä torstaisin klo 17-18 kesäkuun 5. päivä alkaen jatkuen 14.8. saakka \nOhjaajina toimivat seuramme edustusjoukkueen pelaajat\, joiden apuna voi olla myös vanhempia junioripelaajia. Jefukoulusta voi sujuvasti siirtyä pelaamaan ympäri vuoden harjoitteleviin juniorijoukkueisiimme\, ja etenkin nuoremmat pelaajat osallistuvat usein useampanakin kesänä jefukouluun. \nJefukoulun varusteikis riittää ulkona liikkumiseen sopivat vaatteet. Omaa palloa tai muuta lajivarustusta ei tarvitse. \n  \n Jefukoulun hinta on edullinen\, 60 e koko kesältä sisältäen upean Tampere Saints Jefukoulupaidan! \n  \nTämän jälkeen halukkaat voivat jatkaa harrastamista juniorijoukkueissamme. Jefukoulusta voi myös sujuvasti siirtyä pelaamaan joukkueeseen vaikka kesken kesän. \nT-paidan koko: 130\, 140\, 150\, S tai M. \nMaksuton peruutus on mahdollista\, mikäli lapsi ei ensimmäisen kerran jälkeen haluakaan jatkaa jefukoulua. \n  \nMITEN? \nVarmista paikkasi ilmoittautumalla kesän 2025 jefukouluun: \nhttps://saints.myclub.fi/flow/courses
URL:https://tamperesaints.fi/tapahtumat/jefukoulu-2025-8/
LOCATION:Koivistonkylän kenttä\, Nirvankatu 14\, Tampere\, 33820
ATTACH;FMTTYPE=image/png:https://tamperesaints.fi/wp-content/uploads/2025/03/Tampere-Saints-Jefukoulu-kansikuva-2025.png
END:VEVENT
END:VCALENDAR