BEGIN:VCALENDAR
VERSION:2.0
PRODID:-//Tampere Saints - ECPv6.15.20//NONSGML v1.0//EN
CALSCALE:GREGORIAN
METHOD:PUBLISH
X-WR-CALNAME:Tampere Saints
X-ORIGINAL-URL:https://tamperesaints.fi
X-WR-CALDESC:Tapahtumat Tampere Saints
REFRESH-INTERVAL;VALUE=DURATION:PT1H
X-Robots-Tag:noindex
X-PUBLISHED-TTL:PT1H
BEGIN:VTIMEZONE
TZID:Europe/Helsinki
BEGIN:DAYLIGHT
TZOFFSETFROM:+0200
TZOFFSETTO:+0300
TZNAME:EEST
DTSTART:20240331T010000
END:DAYLIGHT
BEGIN:STANDARD
TZOFFSETFROM:+0300
TZOFFSETTO:+0200
TZNAME:EET
DTSTART:20241027T010000
END:STANDARD
BEGIN:DAYLIGHT
TZOFFSETFROM:+0200
TZOFFSETTO:+0300
TZNAME:EEST
DTSTART:20250330T010000
END:DAYLIGHT
BEGIN:STANDARD
TZOFFSETFROM:+0300
TZOFFSETTO:+0200
TZNAME:EET
DTSTART:20251026T010000
END:STANDARD
BEGIN:DAYLIGHT
TZOFFSETFROM:+0200
TZOFFSETTO:+0300
TZNAME:EEST
DTSTART:20260329T010000
END:DAYLIGHT
BEGIN:STANDARD
TZOFFSETFROM:+0300
TZOFFSETTO:+0200
TZNAME:EET
DTSTART:20261025T010000
END:STANDARD
END:VTIMEZONE
BEGIN:VEVENT
DTSTART;TZID=Europe/Helsinki:20250808T183000
DTEND;TZID=Europe/Helsinki:20250808T210000
DTSTAMP:20260419T211917
CREATED:20250305T123804Z
LAST-MODIFIED:20250507T165114Z
UID:20707-1754677800-1754686800@tamperesaints.fi
SUMMARY:Vaahteraliiga Helsinki Wolverines vs. Tampere Saints
DESCRIPTION:
URL:https://tamperesaints.fi/tapahtumat/vaahteraliiga-helsinki-wolverines-vs-tampere-saints/
LOCATION:Velodromi\, Mäkelänkatu 70\, 00520 Helsinki\, Helsinki\, 00520\, Suomi
CATEGORIES:Vierasottelu
ATTACH;FMTTYPE=image/png:https://tamperesaints.fi/wp-content/uploads/2025/03/vieras-4.png
END:VEVENT
END:VCALENDAR