BEGIN:VCALENDAR
VERSION:2.0
PRODID:-//Tampere Saints - ECPv6.15.20//NONSGML v1.0//EN
CALSCALE:GREGORIAN
METHOD:PUBLISH
X-ORIGINAL-URL:https://tamperesaints.fi
X-WR-CALDESC:Tapahtumat Tampere Saints
REFRESH-INTERVAL;VALUE=DURATION:PT1H
X-Robots-Tag:noindex
X-PUBLISHED-TTL:PT1H
BEGIN:VTIMEZONE
TZID:Europe/Helsinki
BEGIN:DAYLIGHT
TZOFFSETFROM:+0200
TZOFFSETTO:+0300
TZNAME:EEST
DTSTART:20240331T010000
END:DAYLIGHT
BEGIN:STANDARD
TZOFFSETFROM:+0300
TZOFFSETTO:+0200
TZNAME:EET
DTSTART:20241027T010000
END:STANDARD
BEGIN:DAYLIGHT
TZOFFSETFROM:+0200
TZOFFSETTO:+0300
TZNAME:EEST
DTSTART:20250330T010000
END:DAYLIGHT
BEGIN:STANDARD
TZOFFSETFROM:+0300
TZOFFSETTO:+0200
TZNAME:EET
DTSTART:20251026T010000
END:STANDARD
BEGIN:DAYLIGHT
TZOFFSETFROM:+0200
TZOFFSETTO:+0300
TZNAME:EEST
DTSTART:20260329T010000
END:DAYLIGHT
BEGIN:STANDARD
TZOFFSETFROM:+0300
TZOFFSETTO:+0200
TZNAME:EET
DTSTART:20261025T010000
END:STANDARD
END:VTIMEZONE
BEGIN:VEVENT
DTSTART;TZID=Europe/Helsinki:20250816T140000
DTEND;TZID=Europe/Helsinki:20250816T163000
DTSTAMP:20260419T212242
CREATED:20250305T123911Z
LAST-MODIFIED:20250507T165143Z
UID:20709-1755352800-1755361800@tamperesaints.fi
SUMMARY:Vaahteraliiga Wasa Royals vs. Tampere Saints
DESCRIPTION:
URL:https://tamperesaints.fi/tapahtumat/vaahteraliiga-wasa-royals-vs-tampere-saints/
LOCATION:Kaarlen kenttä\, Ruutikellarintie 1\, Vaasa\, 65350\, Suomi
CATEGORIES:Vierasottelu
ATTACH;FMTTYPE=image/png:https://tamperesaints.fi/wp-content/uploads/2025/03/vieras-1.png
END:VEVENT
END:VCALENDAR