BEGIN:VCALENDAR
VERSION:2.0
PRODID:-//Tampere Saints - ECPv6.15.20//NONSGML v1.0//EN
CALSCALE:GREGORIAN
METHOD:PUBLISH
X-WR-CALNAME:Tampere Saints
X-ORIGINAL-URL:https://tamperesaints.fi
X-WR-CALDESC:Tapahtumat Tampere Saints
REFRESH-INTERVAL;VALUE=DURATION:PT1H
X-Robots-Tag:noindex
X-PUBLISHED-TTL:PT1H
BEGIN:VTIMEZONE
TZID:Europe/Helsinki
BEGIN:DAYLIGHT
TZOFFSETFROM:+0200
TZOFFSETTO:+0300
TZNAME:EEST
DTSTART:20240331T010000
END:DAYLIGHT
BEGIN:STANDARD
TZOFFSETFROM:+0300
TZOFFSETTO:+0200
TZNAME:EET
DTSTART:20241027T010000
END:STANDARD
BEGIN:DAYLIGHT
TZOFFSETFROM:+0200
TZOFFSETTO:+0300
TZNAME:EEST
DTSTART:20250330T010000
END:DAYLIGHT
BEGIN:STANDARD
TZOFFSETFROM:+0300
TZOFFSETTO:+0200
TZNAME:EET
DTSTART:20251026T010000
END:STANDARD
BEGIN:DAYLIGHT
TZOFFSETFROM:+0200
TZOFFSETTO:+0300
TZNAME:EEST
DTSTART:20260329T010000
END:DAYLIGHT
BEGIN:STANDARD
TZOFFSETFROM:+0300
TZOFFSETTO:+0200
TZNAME:EET
DTSTART:20261025T010000
END:STANDARD
END:VTIMEZONE
BEGIN:VEVENT
DTSTART;TZID=Europe/Helsinki:20250822T183000
DTEND;TZID=Europe/Helsinki:20250822T210000
DTSTAMP:20260419T211924
CREATED:20250305T124020Z
LAST-MODIFIED:20250602T071455Z
UID:20711-1755887400-1755896400@tamperesaints.fi
SUMMARY:Vaahteraliiga Tampere Saints vs. Helsinki Roosters
DESCRIPTION:Ottelutapahtumassa DJ soittaa musiikkia ja paikalla on juontaja\, joka selostaa pelin käänteitä. \nSaintsin kahvio tarjoilee pientä purtavaa ja virvoitusjuomia sekä Wigrenin Tuplanysä grillimakkaraa! Suurempaan nälkään helpotusta tuo Buffet Sisu ja sen siivet\, ranskalaiset sekä tacot. \n  \nOttelun kickoff klo 18:30 \n  \nPääsylippu 15€. 15-vuotiaat ja alle pääsevät ilmaiseksi. \nPääsylippu alennusryhmille 10€: asepalvelus\, eläkeläiset ja opiskelijat. Lipunpyynnissä tulee pyydettäessä esittää alennukseen oikeuttava kortti (asepalvelus- \, eläke- tai opiskelijakortti). \n  \nVältä lippujono Pyynikillä ja osta otteluliput ennakkoon tästä! \n 
URL:https://tamperesaints.fi/tapahtumat/vaahteraliiga-tampere-saints-vs-helsinki-roosters/
LOCATION:Pyynikin urheilukenttä\, F.E. Sillanpään katu 4\, Tampere\, 33230\, Suomi
CATEGORIES:Kotiottelu
ATTACH;FMTTYPE=image/png:https://tamperesaints.fi/wp-content/uploads/2025/03/koti-5.png
END:VEVENT
END:VCALENDAR