BEGIN:VCALENDAR
VERSION:2.0
PRODID:-//Tampere Saints - ECPv6.15.20//NONSGML v1.0//EN
CALSCALE:GREGORIAN
METHOD:PUBLISH
X-ORIGINAL-URL:https://tamperesaints.fi
X-WR-CALDESC:Tapahtumat Tampere Saints
REFRESH-INTERVAL;VALUE=DURATION:PT1H
X-Robots-Tag:noindex
X-PUBLISHED-TTL:PT1H
BEGIN:VTIMEZONE
TZID:Europe/Helsinki
BEGIN:DAYLIGHT
TZOFFSETFROM:+0200
TZOFFSETTO:+0300
TZNAME:EEST
DTSTART:20240331T010000
END:DAYLIGHT
BEGIN:STANDARD
TZOFFSETFROM:+0300
TZOFFSETTO:+0200
TZNAME:EET
DTSTART:20241027T010000
END:STANDARD
BEGIN:DAYLIGHT
TZOFFSETFROM:+0200
TZOFFSETTO:+0300
TZNAME:EEST
DTSTART:20250330T010000
END:DAYLIGHT
BEGIN:STANDARD
TZOFFSETFROM:+0300
TZOFFSETTO:+0200
TZNAME:EET
DTSTART:20251026T010000
END:STANDARD
BEGIN:DAYLIGHT
TZOFFSETFROM:+0200
TZOFFSETTO:+0300
TZNAME:EEST
DTSTART:20260329T010000
END:DAYLIGHT
BEGIN:STANDARD
TZOFFSETFROM:+0300
TZOFFSETTO:+0200
TZNAME:EET
DTSTART:20261025T010000
END:STANDARD
END:VTIMEZONE
BEGIN:VEVENT
DTSTART;TZID=Europe/Helsinki:20250823T110000
DTEND;TZID=Europe/Helsinki:20250823T170000
DTSTAMP:20260419T213104
CREATED:20250419T084938Z
LAST-MODIFIED:20250419T084938Z
UID:21037-1755946800-1755968400@tamperesaints.fi
SUMMARY:U15 Turnaus 3 Kuopiossa
DESCRIPTION:Runkosarjan toiseksi viimeiseen turnaukseen Saints matkustaa Kuopioon\, jossa vastaan asettuvat Pori Bears sekä Kotka Eagles. \nTurnauksen otteluohjelma Saintsin osalta: \nSaints vs. Bears kickoff klo TBA \nEagles vs. Saints kickoff klo TBA \n  \nSeuraa Saintsin sijoitusta U15 I-divisionan sarjataulukosta!
URL:https://tamperesaints.fi/tapahtumat/u15-turnaus-3-kuopiossa/
LOCATION:Lippumäen jalkapallokenttä\, Rauhalahdentie 68\, Kuopio\, 70780
CATEGORIES:Turnaus
ATTACH;FMTTYPE=image/png:https://tamperesaints.fi/wp-content/uploads/2025/04/U15-Turnaus-23.8.2025-Tampere-Saints.png
END:VEVENT
END:VCALENDAR