BEGIN:VCALENDAR
VERSION:2.0
PRODID:-//Tampere Saints - ECPv6.15.20//NONSGML v1.0//EN
CALSCALE:GREGORIAN
METHOD:PUBLISH
X-ORIGINAL-URL:https://tamperesaints.fi
X-WR-CALDESC:Tapahtumat Tampere Saints
REFRESH-INTERVAL;VALUE=DURATION:PT1H
X-Robots-Tag:noindex
X-PUBLISHED-TTL:PT1H
BEGIN:VTIMEZONE
TZID:Europe/Helsinki
BEGIN:DAYLIGHT
TZOFFSETFROM:+0200
TZOFFSETTO:+0300
TZNAME:EEST
DTSTART:20240331T010000
END:DAYLIGHT
BEGIN:STANDARD
TZOFFSETFROM:+0300
TZOFFSETTO:+0200
TZNAME:EET
DTSTART:20241027T010000
END:STANDARD
BEGIN:DAYLIGHT
TZOFFSETFROM:+0200
TZOFFSETTO:+0300
TZNAME:EEST
DTSTART:20250330T010000
END:DAYLIGHT
BEGIN:STANDARD
TZOFFSETFROM:+0300
TZOFFSETTO:+0200
TZNAME:EET
DTSTART:20251026T010000
END:STANDARD
BEGIN:DAYLIGHT
TZOFFSETFROM:+0200
TZOFFSETTO:+0300
TZNAME:EEST
DTSTART:20260329T010000
END:DAYLIGHT
BEGIN:STANDARD
TZOFFSETFROM:+0300
TZOFFSETTO:+0200
TZNAME:EET
DTSTART:20261025T010000
END:STANDARD
END:VTIMEZONE
BEGIN:VEVENT
DTSTART;TZID=Europe/Helsinki:20250830T110000
DTEND;TZID=Europe/Helsinki:20250830T170000
DTSTAMP:20260419T212201
CREATED:20250419T085417Z
LAST-MODIFIED:20250707T080406Z
UID:21040-1756551600-1756573200@tamperesaints.fi
SUMMARY:U15 Turnaus 4 Kotkassa
DESCRIPTION:Runkosarjan viimeiseen turnaukseen Saints matkustaa Kotkaan\, jossa otteluohjelman muutosten jälkeen vastaan asettuvat Kotka Eagles sekä Porvoo Butchers. \nTurnauksen otteluohjelma Saintsin osalta: \nSaints vs. Eagles kickoff klo TBA \nSaints vs. Butchers kickoff klo TBA \n  \nSeuraa Saintsin sijoitusta U15 I-divisionan sarjataulukosta!
URL:https://tamperesaints.fi/tapahtumat/u15-turnaus-4-kotkassa/
LOCATION:Karhulan kenttä\, Urheilutie 1\, Kotka\, 48600
CATEGORIES:Turnaus
ATTACH;FMTTYPE=image/png:https://tamperesaints.fi/wp-content/uploads/2025/04/Turnaus-30.8.-25-U15-Tampere-Saints.png
END:VEVENT
END:VCALENDAR