BEGIN:VCALENDAR
VERSION:2.0
PRODID:-//Tampere Saints - ECPv6.15.20//NONSGML v1.0//EN
CALSCALE:GREGORIAN
METHOD:PUBLISH
X-ORIGINAL-URL:https://tamperesaints.fi
X-WR-CALDESC:Tapahtumat Tampere Saints
REFRESH-INTERVAL;VALUE=DURATION:PT1H
X-Robots-Tag:noindex
X-PUBLISHED-TTL:PT1H
BEGIN:VTIMEZONE
TZID:Europe/Helsinki
BEGIN:DAYLIGHT
TZOFFSETFROM:+0200
TZOFFSETTO:+0300
TZNAME:EEST
DTSTART:20240331T010000
END:DAYLIGHT
BEGIN:STANDARD
TZOFFSETFROM:+0300
TZOFFSETTO:+0200
TZNAME:EET
DTSTART:20241027T010000
END:STANDARD
BEGIN:DAYLIGHT
TZOFFSETFROM:+0200
TZOFFSETTO:+0300
TZNAME:EEST
DTSTART:20250330T010000
END:DAYLIGHT
BEGIN:STANDARD
TZOFFSETFROM:+0300
TZOFFSETTO:+0200
TZNAME:EET
DTSTART:20251026T010000
END:STANDARD
BEGIN:DAYLIGHT
TZOFFSETFROM:+0200
TZOFFSETTO:+0300
TZNAME:EEST
DTSTART:20260329T010000
END:DAYLIGHT
BEGIN:STANDARD
TZOFFSETFROM:+0300
TZOFFSETTO:+0200
TZNAME:EET
DTSTART:20261025T010000
END:STANDARD
END:VTIMEZONE
BEGIN:VEVENT
DTSTART;TZID=Europe/Helsinki:20250922T183000
DTEND;TZID=Europe/Helsinki:20250922T200000
DTSTAMP:20260419T200153
CREATED:20250919T172523Z
LAST-MODIFIED:20250919T174512Z
UID:21473-1758565800-1758571200@tamperesaints.fi
SUMMARY:Saints naiset alkeiskurssi
DESCRIPTION:Tampere Saints järjestää syyskuussa naisten jenkkifutiksen alkeiskurssin! \nJenkkifutiksessa on tilaa erilaisille pelaajille — kaikkia vartalotyyppejä ja kykyjä tarvitaan eri pelipaikoille. Tule siis rohkeasti mukaan\, olitpa sitten nopea juoksija tai vahva linjanainen. Aiempaa kokemusta et tarvitse\, vain halun oppia ja kokeilla uutta! Alkeiskurssille ovat tervetulleita kaikki naiset ja vähintään 16-vuotiaat tytöt. \nKurssipäivät:\nMa 15.9. klo 18.30 – 20.00\nKe 17.9. klo 18.30 – 20.00\nMa 22.9. klo 18.30 – 20.00\nKe 24.9. klo 18.30 – 20.00 \nPaikka: Koivistonkylän kenttä \nTämä on täydellinen mahdollisuus päästä kokeilemaan lajia ja oppimaan sen perusteet rennossa ja kannustavassa ympäristössä. Alkeiskurssin jälkeen joukkueen treenit jatkuvat syyskauden ajan Koivistonkylän kentällä. \nRiittää kun tulet paikan päälle säähän sopiva urheiluvarustus ja juomapullo mukanasi! \nJos sinulla herää kysymyksiä\, voit laittaa meille yksityisviestiä sosiaalisessa mediassa tai sähköpostia osoitteeseen naiset@tamperesaints.fi. \nTervetuloa!
URL:https://tamperesaints.fi/tapahtumat/saints-naiset-alkeiskurssi/
CATEGORIES:Alkeiskurssi ja avoimet treenit
ATTACH;FMTTYPE=image/jpeg:https://tamperesaints.fi/wp-content/uploads/2022/05/Saints_WCP.jpg
END:VEVENT
END:VCALENDAR