BEGIN:VCALENDAR
VERSION:2.0
PRODID:-//Tampere Saints - ECPv6.15.20//NONSGML v1.0//EN
CALSCALE:GREGORIAN
METHOD:PUBLISH
X-WR-CALNAME:Tampere Saints
X-ORIGINAL-URL:https://tamperesaints.fi
X-WR-CALDESC:Tapahtumat Tampere Saints
REFRESH-INTERVAL;VALUE=DURATION:PT1H
X-Robots-Tag:noindex
X-PUBLISHED-TTL:PT1H
BEGIN:VTIMEZONE
TZID:Europe/Helsinki
BEGIN:DAYLIGHT
TZOFFSETFROM:+0200
TZOFFSETTO:+0300
TZNAME:EEST
DTSTART:20240331T010000
END:DAYLIGHT
BEGIN:STANDARD
TZOFFSETFROM:+0300
TZOFFSETTO:+0200
TZNAME:EET
DTSTART:20241027T010000
END:STANDARD
BEGIN:DAYLIGHT
TZOFFSETFROM:+0200
TZOFFSETTO:+0300
TZNAME:EEST
DTSTART:20250330T010000
END:DAYLIGHT
BEGIN:STANDARD
TZOFFSETFROM:+0300
TZOFFSETTO:+0200
TZNAME:EET
DTSTART:20251026T010000
END:STANDARD
BEGIN:DAYLIGHT
TZOFFSETFROM:+0200
TZOFFSETTO:+0300
TZNAME:EEST
DTSTART:20260329T010000
END:DAYLIGHT
BEGIN:STANDARD
TZOFFSETFROM:+0300
TZOFFSETTO:+0200
TZNAME:EET
DTSTART:20261025T010000
END:STANDARD
END:VTIMEZONE
BEGIN:VEVENT
DTSTART;TZID=Europe/Helsinki:20250720T110000
DTEND;TZID=Europe/Helsinki:20250720T170000
DTSTAMP:20260419T214837
CREATED:20250419T083716Z
LAST-MODIFIED:20250419T083716Z
UID:21031-1753009200-1753030800@tamperesaints.fi
SUMMARY:U15 Turnaus 1 Porvoossa
DESCRIPTION:U15 joukkue aloittaa loppukesästä neljästä turnauksesta koostuvan kautensa I-divisionassa . Otteluita kussakin runkosarjan turnauksessa Saintsilla on kaksi eli yhteensä kahdeksan ottelua sekä mahdollisest pudotuspeli ja finaali. \nEnsimmäisessä turnauksessa vastaan asettuu kotijoukkue Porvoo Butchers sekä Kuopio Steelers. \nOtteluohjelma Tampere Saintsin osalta: \nSaints vs. Butchers kickoff klo TBA \nSteelers vs. Saints kickoff klo TBA \n 
URL:https://tamperesaints.fi/tapahtumat/u15-turnaus-1-porvoossa/
LOCATION:Pallokenttä\, Lukiokatu 22\, Porvoo\, 06100\, Suomi
CATEGORIES:Turnaus
ATTACH;FMTTYPE=image/png:https://tamperesaints.fi/wp-content/uploads/2025/04/U15-Turnaus-20.7.2025-Tampere-Saints-.png
END:VEVENT
BEGIN:VEVENT
DTSTART;TZID=Europe/Helsinki:20250720T130000
DTEND;TZID=Europe/Helsinki:20250720T150000
DTSTAMP:20260419T214837
CREATED:20250209T075516Z
LAST-MODIFIED:20250209T075516Z
UID:20580-1753016400-1753023600@tamperesaints.fi
SUMMARY:Vaahteraliiga Naiset Tampere Saints vs. Helsinki Wolverines
DESCRIPTION:Ottelutapahtumassa DJ soittaa musiikkia ja paikalla on juontaja\, joka selostaa pelin käänteitä. \nSaintsin kahvio tarjoilee pientä purtavaa ja virvoitusjuomia sekä Wigrenin Tuplanysä grillimakkaraa! \n  \nOttelun kickoff klo 13:00 \n  \nPääsyliput ennakkoon Lippu.fi -palvelusta ja portilta 5€\, 12-vuotiaat ja alle ilmaiseksi. \nOttelu suorana myös Ruutu+ -palvelusta.
URL:https://tamperesaints.fi/tapahtumat/vaahteraliiga-naiset-tampere-saints-vs-helsinki-wolverines/
LOCATION:Pyynikin urheilukenttä\, F.E. Sillanpään katu 4\, Tampere\, 33230\, Suomi
CATEGORIES:Kotiottelu
ATTACH;FMTTYPE=image/png:https://tamperesaints.fi/wp-content/uploads/2025/02/Vaahteraliiga-Naiset-Tampere-Saints-Helsinki-Wolvereines.png
END:VEVENT
BEGIN:VEVENT
DTSTART;TZID=Europe/Helsinki:20250724T170000
DTEND;TZID=Europe/Helsinki:20250724T180000
DTSTAMP:20260419T214837
CREATED:20250326T195718Z
LAST-MODIFIED:20250327T154628Z
UID:20880-1753376400-1753380000@tamperesaints.fi
SUMMARY:Jefukoulu 2025
DESCRIPTION:MUKAAN PELAAMAAN?\n– Opi amerikkalaisen jalkapallon alkeita super hauskan kesäkurssin parissa- \n  \nKEILLE? \nKesäkauden kestävä jefukoulu on tarkoitettu  6 – 11 v lapsille sukupuolesta\, koosta tai urheilutasta riippumatta. \n\nMISSÄ?\n\nKoivistonkylän kentällä torstaisin klo 17-18 kesäkuun 5. päivä alkaen jatkuen 14.8. saakka \nOhjaajina toimivat seuramme edustusjoukkueen pelaajat\, joiden apuna voi olla myös vanhempia junioripelaajia. Jefukoulusta voi sujuvasti siirtyä pelaamaan ympäri vuoden harjoitteleviin juniorijoukkueisiimme\, ja etenkin nuoremmat pelaajat osallistuvat usein useampanakin kesänä jefukouluun. \nJefukoulun varusteikis riittää ulkona liikkumiseen sopivat vaatteet. Omaa palloa tai muuta lajivarustusta ei tarvitse. \n  \n Jefukoulun hinta on edullinen\, 60 e koko kesältä sisältäen upean Tampere Saints Jefukoulupaidan! \n  \nTämän jälkeen halukkaat voivat jatkaa harrastamista juniorijoukkueissamme. Jefukoulusta voi myös sujuvasti siirtyä pelaamaan joukkueeseen vaikka kesken kesän. \nT-paidan koko: 130\, 140\, 150\, S tai M. \nMaksuton peruutus on mahdollista\, mikäli lapsi ei ensimmäisen kerran jälkeen haluakaan jatkaa jefukoulua. \n  \nMITEN? \nVarmista paikkasi ilmoittautumalla kesän 2025 jefukouluun: \nhttps://saints.myclub.fi/flow/courses
URL:https://tamperesaints.fi/tapahtumat/jefukoulu-2025-8/
LOCATION:Koivistonkylän kenttä\, Nirvankatu 14\, Tampere\, 33820
ATTACH;FMTTYPE=image/png:https://tamperesaints.fi/wp-content/uploads/2025/03/Tampere-Saints-Jefukoulu-kansikuva-2025.png
END:VEVENT
BEGIN:VEVENT
DTSTART;TZID=Europe/Helsinki:20250726T100000
DTEND;TZID=Europe/Helsinki:20250726T150000
DTSTAMP:20260419T214837
CREATED:20250413T065649Z
LAST-MODIFIED:20250413T071945Z
UID:21004-1753524000-1753542000@tamperesaints.fi
SUMMARY:U13 Turnaus 4 Tampereella
DESCRIPTION:Pyhimykset pääsevät pelaamaan kauden neljännen turnauksensa kotikentällään Tampereen Pyynikillä. Saintsin U13-joukkue kohtaa kotonaan Porvoo Butchersin sekä Kuopio Steelersin. \n  \nOttelutapahtumassa DJ soittaa musiikkia ja paikalla on juontaja\, joka selostaa pelin käänteitä. \nSaintsin kahvio tarjoilee pientä purtavaa ja virvoitusjuomia sekä Wigrenin Tuplanysä grillimakkaraa! \n  \nTurnauksen aikataulu Pyhimysten osalta: \nSaints vs. Butchers kickoff klo 11:30 \nSteelers vs. Saints kickoff klo 13:00 \n  \nSeuraa Saintsin sijoitusta U13 sarjassa sarjataulukosta! \n 
URL:https://tamperesaints.fi/tapahtumat/u13-turnaus-4-tampereella/
LOCATION:Pyynikin urheilukenttä\, F.E. Sillanpään katu 4\, Tampere\, 33230\, Suomi
CATEGORIES:Turnaus
ATTACH;FMTTYPE=image/png:https://tamperesaints.fi/wp-content/uploads/2025/04/U13-Amerikkalainen-jalkapallo-26.7.2025-Tampere.png
END:VEVENT
BEGIN:VEVENT
DTSTART;TZID=Europe/Helsinki:20250731T170000
DTEND;TZID=Europe/Helsinki:20250731T180000
DTSTAMP:20260419T214837
CREATED:20250326T195923Z
LAST-MODIFIED:20250329T182011Z
UID:20885-1753981200-1753984800@tamperesaints.fi
SUMMARY:Jefukoulu 2025
DESCRIPTION:MUKAAN PELAAMAAN?\n– Opi amerikkalaisen jalkapallon alkeita super hauskan kesäkurssin parissa- \n  \nKEILLE? \nKesäkauden kestävä jefukoulu on tarkoitettu  6 – 11 v lapsille sukupuolesta\, koosta tai urheilutasta riippumatta. \n\nMISSÄ?\n\nKoivistonkylän kentällä torstaisin klo 17-18 kesäkuun 5. päivä alkaen jatkuen 14.8. saakka \nOhjaajina toimivat seuramme edustusjoukkueen pelaajat\, joiden apuna voi olla myös vanhempia junioripelaajia. Jefukoulusta voi sujuvasti siirtyä pelaamaan ympäri vuoden harjoitteleviin juniorijoukkueisiimme\, ja etenkin nuoremmat pelaajat osallistuvat usein useampanakin kesänä jefukouluun. \nJefukoulun varusteikis riittää ulkona liikkumiseen sopivat vaatteet. Omaa palloa tai muuta lajivarustusta ei tarvitse. \n  \n Jefukoulun hinta on edullinen\, 60 e koko kesältä sisältäen upean Tampere Saints Jefukoulupaidan! \n  \nTämän jälkeen halukkaat voivat jatkaa harrastamista juniorijoukkueissamme. Jefukoulusta voi myös sujuvasti siirtyä pelaamaan joukkueeseen vaikka kesken kesän. \nT-paidan koko: 130\, 140\, 150\, S tai M. \nMaksuton peruutus on mahdollista\, mikäli lapsi ei ensimmäisen kerran jälkeen haluakaan jatkaa jefukoulua. \n  \nMITEN? \nVarmista paikkasi ilmoittautumalla kesän 2025 jefukouluun: \n\n\nhttps://saints.myclub.fi/flow/courses/public
URL:https://tamperesaints.fi/tapahtumat/jefukoulu-2025-10/
LOCATION:Koivistonkylän kenttä\, Nirvankatu 14\, Tampere\, 33820
ATTACH;FMTTYPE=image/png:https://tamperesaints.fi/wp-content/uploads/2025/03/Tampere-Saints-Jefukoulu-kansikuva-2025.png
END:VEVENT
END:VCALENDAR