BEGIN:VCALENDAR
VERSION:2.0
PRODID:-//Tampere Saints - ECPv6.15.20//NONSGML v1.0//EN
CALSCALE:GREGORIAN
METHOD:PUBLISH
X-ORIGINAL-URL:https://tamperesaints.fi
X-WR-CALDESC:Tapahtumat Tampere Saints
REFRESH-INTERVAL;VALUE=DURATION:PT1H
X-Robots-Tag:noindex
X-PUBLISHED-TTL:PT1H
BEGIN:VTIMEZONE
TZID:Europe/Helsinki
BEGIN:DAYLIGHT
TZOFFSETFROM:+0200
TZOFFSETTO:+0300
TZNAME:EEST
DTSTART:20240331T010000
END:DAYLIGHT
BEGIN:STANDARD
TZOFFSETFROM:+0300
TZOFFSETTO:+0200
TZNAME:EET
DTSTART:20241027T010000
END:STANDARD
BEGIN:DAYLIGHT
TZOFFSETFROM:+0200
TZOFFSETTO:+0300
TZNAME:EEST
DTSTART:20250330T010000
END:DAYLIGHT
BEGIN:STANDARD
TZOFFSETFROM:+0300
TZOFFSETTO:+0200
TZNAME:EET
DTSTART:20251026T010000
END:STANDARD
BEGIN:DAYLIGHT
TZOFFSETFROM:+0200
TZOFFSETTO:+0300
TZNAME:EEST
DTSTART:20260329T010000
END:DAYLIGHT
BEGIN:STANDARD
TZOFFSETFROM:+0300
TZOFFSETTO:+0200
TZNAME:EET
DTSTART:20261025T010000
END:STANDARD
END:VTIMEZONE
BEGIN:VEVENT
DTSTART;TZID=Europe/Helsinki:20251001T183000
DTEND;TZID=Europe/Helsinki:20251001T200000
DTSTAMP:20260419T171043
CREATED:20250923T184333Z
LAST-MODIFIED:20250923T185752Z
UID:21488-1759343400-1759348800@tamperesaints.fi
SUMMARY:Lasten ja nuorten lippupallon alkeiskurssi
DESCRIPTION:Avoin 11-17 vuotiaiden juniorien lippupallon alkeiskurssi: \nke 1.10.2025 klo 18:30-20 \nVarusteena juomapullo ja ulkona urheiluun sopiva vaatetus. Harjoitukset on tekonurmialustalla joten nappikset voi laittaa jos on. \nhttps://saints.myclub.fi/flow/events/9612324 \nToimintaan on saatu opetus- ja kulttuuriministeriön tukea. \nLippupallo eli flagi on kevyempi versio amerikkalaisesta jalkapallosta\, joka on valittu lajiksi  vuoden 2028 Los Angelesin Olympialaisiin. \nLippupallossa ei ole kovaa kontaktia\, kuten blokkaamista tai taklaamista. Siinä pelaajilla on lippuvyö\, jossa on liput lantion molemmin puolin. Lipun irroittaminen toisen pelaajan lippuvyöstä korvaa amerikkalaisen jalkapallon taklaukset.
URL:https://tamperesaints.fi/tapahtumat/lasten-ja-nuorten-lippupallon-alkeiskurssi-1-10-2025/
LOCATION:Koivistonkylän kenttä\, Nirvankatu 14\, Tampere\, 33820
CATEGORIES:Alkeiskurssi ja avoimet treenit
ORGANIZER;CN="Tampere Saints Lippupallo":MAILTO:lippupallo@tamperesaints.fi
END:VEVENT
END:VCALENDAR