BEGIN:VCALENDAR
VERSION:2.0
PRODID:-//Tampere Saints - ECPv6.15.20//NONSGML v1.0//EN
CALSCALE:GREGORIAN
METHOD:PUBLISH
X-WR-CALNAME:Tampere Saints
X-ORIGINAL-URL:https://tamperesaints.fi
X-WR-CALDESC:Tapahtumat Tampere Saints
REFRESH-INTERVAL;VALUE=DURATION:PT1H
X-Robots-Tag:noindex
X-PUBLISHED-TTL:PT1H
BEGIN:VTIMEZONE
TZID:Europe/Helsinki
BEGIN:DAYLIGHT
TZOFFSETFROM:+0200
TZOFFSETTO:+0300
TZNAME:EEST
DTSTART:20240331T010000
END:DAYLIGHT
BEGIN:STANDARD
TZOFFSETFROM:+0300
TZOFFSETTO:+0200
TZNAME:EET
DTSTART:20241027T010000
END:STANDARD
BEGIN:DAYLIGHT
TZOFFSETFROM:+0200
TZOFFSETTO:+0300
TZNAME:EEST
DTSTART:20250330T010000
END:DAYLIGHT
BEGIN:STANDARD
TZOFFSETFROM:+0300
TZOFFSETTO:+0200
TZNAME:EET
DTSTART:20251026T010000
END:STANDARD
BEGIN:DAYLIGHT
TZOFFSETFROM:+0200
TZOFFSETTO:+0300
TZNAME:EEST
DTSTART:20260329T010000
END:DAYLIGHT
BEGIN:STANDARD
TZOFFSETFROM:+0300
TZOFFSETTO:+0200
TZNAME:EET
DTSTART:20261025T010000
END:STANDARD
END:VTIMEZONE
BEGIN:VEVENT
DTSTART;TZID=Europe/Helsinki:20250922T183000
DTEND;TZID=Europe/Helsinki:20250922T200000
DTSTAMP:20260420T003608
CREATED:20250919T172523Z
LAST-MODIFIED:20250919T174512Z
UID:21473-1758565800-1758571200@tamperesaints.fi
SUMMARY:Saints naiset alkeiskurssi
DESCRIPTION:Tampere Saints järjestää syyskuussa naisten jenkkifutiksen alkeiskurssin! \nJenkkifutiksessa on tilaa erilaisille pelaajille — kaikkia vartalotyyppejä ja kykyjä tarvitaan eri pelipaikoille. Tule siis rohkeasti mukaan\, olitpa sitten nopea juoksija tai vahva linjanainen. Aiempaa kokemusta et tarvitse\, vain halun oppia ja kokeilla uutta! Alkeiskurssille ovat tervetulleita kaikki naiset ja vähintään 16-vuotiaat tytöt. \nKurssipäivät:\nMa 15.9. klo 18.30 – 20.00\nKe 17.9. klo 18.30 – 20.00\nMa 22.9. klo 18.30 – 20.00\nKe 24.9. klo 18.30 – 20.00 \nPaikka: Koivistonkylän kenttä \nTämä on täydellinen mahdollisuus päästä kokeilemaan lajia ja oppimaan sen perusteet rennossa ja kannustavassa ympäristössä. Alkeiskurssin jälkeen joukkueen treenit jatkuvat syyskauden ajan Koivistonkylän kentällä. \nRiittää kun tulet paikan päälle säähän sopiva urheiluvarustus ja juomapullo mukanasi! \nJos sinulla herää kysymyksiä\, voit laittaa meille yksityisviestiä sosiaalisessa mediassa tai sähköpostia osoitteeseen naiset@tamperesaints.fi. \nTervetuloa!
URL:https://tamperesaints.fi/tapahtumat/saints-naiset-alkeiskurssi/
CATEGORIES:Alkeiskurssi ja avoimet treenit
ATTACH;FMTTYPE=image/jpeg:https://tamperesaints.fi/wp-content/uploads/2022/05/Saints_WCP.jpg
END:VEVENT
BEGIN:VEVENT
DTSTART;TZID=Europe/Helsinki:20250924T183000
DTEND;TZID=Europe/Helsinki:20250924T200000
DTSTAMP:20260420T003608
CREATED:20250919T172608Z
LAST-MODIFIED:20250919T174344Z
UID:21475-1758738600-1758744000@tamperesaints.fi
SUMMARY:Saints naiset alkeiskurssi
DESCRIPTION:Tampere Saints järjestää syyskuussa naisten jenkkifutiksen alkeiskurssin! \nJenkkifutiksessa on tilaa erilaisille pelaajille — kaikkia vartalotyyppejä ja kykyjä tarvitaan eri pelipaikoille. Tule siis rohkeasti mukaan\, olitpa sitten nopea juoksija tai vahva linjanainen. Aiempaa kokemusta et tarvitse\, vain halun oppia ja kokeilla uutta! Alkeiskurssille ovat tervetulleita kaikki naiset ja vähintään 16-vuotiaat tytöt. \nKurssipäivät:\nMa 15.9. klo 18.30 – 20.00\nKe 17.9. klo 18.30 – 20.00\nMa 22.9. klo 18.30 – 20.00\nKe 24.9. klo 18.30 – 20.00 \nPaikka: Koivistonkylän kenttä \nTämä on täydellinen mahdollisuus päästä kokeilemaan lajia ja oppimaan sen perusteet rennossa ja kannustavassa ympäristössä. Alkeiskurssin jälkeen joukkueen treenit jatkuvat syyskauden ajan Koivistonkylän kentällä. \nRiittää kun tulet paikan päälle säähän sopiva urheiluvarustus ja juomapullo mukanasi! \nJos sinulla herää kysymyksiä\, voit laittaa meille yksityisviestiä sosiaalisessa mediassa tai sähköpostia osoitteeseen naiset@tamperesaints.fi. \nTervetuloa!
URL:https://tamperesaints.fi/tapahtumat/saints-naiset-alkeiskurssi-2/
CATEGORIES:Alkeiskurssi ja avoimet treenit
ATTACH;FMTTYPE=image/jpeg:https://tamperesaints.fi/wp-content/uploads/2022/06/210815-SaintsNLights0240.jpg
END:VEVENT
BEGIN:VEVENT
DTSTART;TZID=Europe/Helsinki:20250927T100000
DTEND;TZID=Europe/Helsinki:20250927T160000
DTSTAMP:20260420T003608
CREATED:20250413T071716Z
LAST-MODIFIED:20250825T065315Z
UID:21010-1758967200-1758988800@tamperesaints.fi
SUMMARY:U13 Turnaus 6 Jyväskylässä
DESCRIPTION:Kauden viimeinen U13 turnuas pelataan Jyvävkylässä. Siellä Saints kohtaa turnauksen järjestävän joukkueen Jaguarsin sekä Wasa Royalsin. \n  \nTurnauksen aikataulu Pyhimysten osalta: \nSaints vs. Jaguars kickoff klo 11:30 \nRoyals vs. Saints kickoff klo 14:30 \n  \nSeuraa Saintsin sijoitusta U13 sarjassa sarjataulukosta!
URL:https://tamperesaints.fi/tapahtumat/u13-turnaus-6-jyvaskylassa/
LOCATION:Vehkahalli\, Wilhelm Schildtin katu 1\, Jyväskylä\, 40720\, Suomi
CATEGORIES:Turnaus
ATTACH;FMTTYPE=image/png:https://tamperesaints.fi/wp-content/uploads/2025/04/U13-Amerikkalainen-jalkapallo-27.9.-2025-Jyvaskyla-.png
END:VEVENT
BEGIN:VEVENT
DTSTART;TZID=Europe/Helsinki:20250930T183000
DTEND;TZID=Europe/Helsinki:20250930T200000
DTSTAMP:20260420T003608
CREATED:20250923T184128Z
LAST-MODIFIED:20250923T185009Z
UID:21486-1759257000-1759262400@tamperesaints.fi
SUMMARY:Lasten ja nuorten lippupallon alkeiskurssi
DESCRIPTION:Avoin 11-17 vuotiaiden juniorien lippupallon alkeiskurssi: \nTi 30.9. ja ke 1.10.2025 klo 18:30-20 \nVarusteena juomapullo ja ulkona urheiluun sopiva vaatetus. Harjoitukset on tekonurmialustalla joten nappikset voi laittaa jos on. \nToimintaan on saatu opetus- ja kulttuuriministeriön tukea. \nLippupallo eli flagi on kevyempi versio amerikkalaisesta jalkapallosta\, joka on valittu lajiksi  vuoden 2028 Los Angelesin Olympialaisiin. \nLippupallossa ei ole kovaa kontaktia\, kuten blokkaamista tai taklaamista. Siinä pelaajilla on lippuvyö\, jossa on liput lantion molemmin puolin. Lipun irroittaminen toisen pelaajan lippuvyöstä korvaa amerikkalaisen jalkapallon taklaukset.
URL:https://tamperesaints.fi/tapahtumat/lasten-ja-nuorten-lippupallon-alkeiskurssi/
LOCATION:Koivistonkylän kenttä\, Nirvankatu 14\, Tampere\, 33820
CATEGORIES:Alkeiskurssi ja avoimet treenit
ORGANIZER;CN="Tampere Saints Lippupallo":MAILTO:lippupallo@tamperesaints.fi
END:VEVENT
BEGIN:VEVENT
DTSTART;TZID=Europe/Helsinki:20251001T183000
DTEND;TZID=Europe/Helsinki:20251001T200000
DTSTAMP:20260420T003608
CREATED:20250923T184333Z
LAST-MODIFIED:20250923T185752Z
UID:21488-1759343400-1759348800@tamperesaints.fi
SUMMARY:Lasten ja nuorten lippupallon alkeiskurssi
DESCRIPTION:Avoin 11-17 vuotiaiden juniorien lippupallon alkeiskurssi: \nke 1.10.2025 klo 18:30-20 \nVarusteena juomapullo ja ulkona urheiluun sopiva vaatetus. Harjoitukset on tekonurmialustalla joten nappikset voi laittaa jos on. \nhttps://saints.myclub.fi/flow/events/9612324 \nToimintaan on saatu opetus- ja kulttuuriministeriön tukea. \nLippupallo eli flagi on kevyempi versio amerikkalaisesta jalkapallosta\, joka on valittu lajiksi  vuoden 2028 Los Angelesin Olympialaisiin. \nLippupallossa ei ole kovaa kontaktia\, kuten blokkaamista tai taklaamista. Siinä pelaajilla on lippuvyö\, jossa on liput lantion molemmin puolin. Lipun irroittaminen toisen pelaajan lippuvyöstä korvaa amerikkalaisen jalkapallon taklaukset.
URL:https://tamperesaints.fi/tapahtumat/lasten-ja-nuorten-lippupallon-alkeiskurssi-1-10-2025/
LOCATION:Koivistonkylän kenttä\, Nirvankatu 14\, Tampere\, 33820
CATEGORIES:Alkeiskurssi ja avoimet treenit
ORGANIZER;CN="Tampere Saints Lippupallo":MAILTO:lippupallo@tamperesaints.fi
END:VEVENT
BEGIN:VEVENT
DTSTART;TZID=Europe/Helsinki:20251115T080000
DTEND;TZID=Europe/Helsinki:20251116T180000
DTSTAMP:20260420T003608
CREATED:20250913T083835Z
LAST-MODIFIED:20250913T083835Z
UID:21461-1763193600-1763316000@tamperesaints.fi
SUMMARY:Lippupallo Turkey Bowl
DESCRIPTION:Tampere Saints osallistuu sekä naisten että miesten joukkueella loppusyksystä järjestettävään lippupalloturnaukseen. Turkey Bowl järjestettään tuttuun tapaan Lahdessa\, mutta ensimmäistä kertaa kahden päivän mittaisena johon on kutsuttu myös joukueita muualta Euroopasta. \nAlkulohkojen ottelut pelataan lauantaina 15.11. ja pudotuspelit sunnuntaina 16.11. \n  \nTurnauksen aikataulu ja Saintsin joukkueiden vastustajat selviävät lähempänä turnausta.
URL:https://tamperesaints.fi/tapahtumat/lippupallo-turkey-bowl/
LOCATION:Mukkulan kuplahalli\, Torpinkatu 4\, Lahti\, 15240\, Suomi
CATEGORIES:Lippupallo
END:VEVENT
END:VCALENDAR